BEGIN:VCALENDAR
BEGIN:VEVENT
SUMMARY;CHARSET=ISO-8859-1:2. Elbtaltreffen 
DESCRIPTION;CHARSET=ISO-8859-1:Gleich noch ein "Osttreffen", diesmal bei den Elbtalern. 
LOCATION: 
DTSTART:20100625T000000 
DTEND:20100627T235900 
CATEGORIES:Allgemein
END:VEVENT
END:VCALENDAR